BEGIN:VCALENDAR
VERSION:2.0
PRODID:-//River Tap Pub - ECPv6.15.18//NONSGML v1.0//EN
CALSCALE:GREGORIAN
METHOD:PUBLISH
X-WR-CALNAME:River Tap Pub
X-ORIGINAL-URL:https://rivertap.com
X-WR-CALDESC:Events for River Tap Pub
REFRESH-INTERVAL;VALUE=DURATION:PT1H
X-Robots-Tag:noindex
X-PUBLISHED-TTL:PT1H
BEGIN:VTIMEZONE
TZID:UTC
BEGIN:STANDARD
TZOFFSETFROM:+0000
TZOFFSETTO:+0000
TZNAME:UTC
DTSTART:20170101T000000
END:STANDARD
END:VTIMEZONE
BEGIN:VEVENT
DTSTART;TZID=UTC:20180922T190000
DTEND;TZID=UTC:20180922T220000
DTSTAMP:20260422T010402
CREATED:20180906T181002Z
LAST-MODIFIED:20180906T181002Z
UID:43-1537642800-1537653600@rivertap.com
SUMMARY:LIVE MUSIC BY KIT GAROUTTE 7-10PM
DESCRIPTION:
URL:https://rivertap.com/event/live-music-by-kit-garoutte-7-10pm/
LOCATION:OR
END:VEVENT
END:VCALENDAR