BEGIN:VCALENDAR
VERSION:2.0
PRODID:-//River Tap Pub - ECPv6.15.18//NONSGML v1.0//EN
CALSCALE:GREGORIAN
METHOD:PUBLISH
X-ORIGINAL-URL:https://rivertap.com
X-WR-CALDESC:Events for River Tap Pub
REFRESH-INTERVAL;VALUE=DURATION:PT1H
X-Robots-Tag:noindex
X-PUBLISHED-TTL:PT1H
BEGIN:VTIMEZONE
TZID:UTC
BEGIN:STANDARD
TZOFFSETFROM:+0000
TZOFFSETTO:+0000
TZNAME:UTC
DTSTART:20170101T000000
END:STANDARD
END:VTIMEZONE
BEGIN:VEVENT
DTSTART;TZID=UTC:20181116T183000
DTEND;TZID=UTC:20181116T213000
DTSTAMP:20260421T204756
CREATED:20181115T232348Z
LAST-MODIFIED:20181115T232348Z
UID:644-1542393000-1542403800@rivertap.com
SUMMARY:LIVE MUSIC BY RYAN KOLBERG & DOUG STEPINA 6:30-9:30PM
DESCRIPTION:JOIN US FOR SOME GREAT LIVE MUSIC!!
URL:https://rivertap.com/event/live-music-by-ryan-kolberg-doug-stepina-630-930pm/
LOCATION:Rivertap\, 701 E 2nd St\, The Dalles\, OR\, 97058\, United States
END:VEVENT
END:VCALENDAR