BEGIN:VCALENDAR
VERSION:2.0
PRODID:-//River Tap Pub - ECPv6.15.18//NONSGML v1.0//EN
CALSCALE:GREGORIAN
METHOD:PUBLISH
X-WR-CALNAME:River Tap Pub
X-ORIGINAL-URL:https://rivertap.com
X-WR-CALDESC:Events for River Tap Pub
REFRESH-INTERVAL;VALUE=DURATION:PT1H
X-Robots-Tag:noindex
X-PUBLISHED-TTL:PT1H
BEGIN:VTIMEZONE
TZID:UTC
BEGIN:STANDARD
TZOFFSETFROM:+0000
TZOFFSETTO:+0000
TZNAME:UTC
DTSTART:20170101T000000
END:STANDARD
END:VTIMEZONE
BEGIN:VEVENT
DTSTART;TZID=UTC:20181117T183000
DTEND;TZID=UTC:20181117T213000
DTSTAMP:20260421T204805
CREATED:20181115T232544Z
LAST-MODIFIED:20181115T232544Z
UID:646-1542479400-1542490200@rivertap.com
SUMMARY:LIVE MUSIC BY KIT GAROUTTE 6:30-9:30PM
DESCRIPTION:KIT GAROUTTE WILL BE HERE SATURDAY NIGHT\, DON’T MISS OUT!!
URL:https://rivertap.com/event/live-music-by-kit-garoutte-630-930pm/
LOCATION:Rivertap\, 701 E 2nd St\, The Dalles\, OR\, 97058\, United States
END:VEVENT
END:VCALENDAR