BEGIN:VCALENDAR
VERSION:2.0
PRODID:-//River Tap Pub - ECPv6.15.18//NONSGML v1.0//EN
CALSCALE:GREGORIAN
METHOD:PUBLISH
X-ORIGINAL-URL:https://rivertap.com
X-WR-CALDESC:Events for River Tap Pub
REFRESH-INTERVAL;VALUE=DURATION:PT1H
X-Robots-Tag:noindex
X-PUBLISHED-TTL:PT1H
BEGIN:VTIMEZONE
TZID:UTC
BEGIN:STANDARD
TZOFFSETFROM:+0000
TZOFFSETTO:+0000
TZNAME:UTC
DTSTART:20170101T000000
END:STANDARD
END:VTIMEZONE
BEGIN:VEVENT
DTSTART;TZID=UTC:20181121T190000
DTEND;TZID=UTC:20181121T220000
DTSTAMP:20260421T211918
CREATED:20181115T233153Z
LAST-MODIFIED:20181115T233558Z
UID:676-1542826800-1542837600@rivertap.com
SUMMARY:TURKEY DAY EVE WITH LIVE MUSIC BY AL & NOLAN 7-10PM
DESCRIPTION:THIS IS A NIGHT YOU DON’T WANT TO MISS!! GET WORKING ON YOUR GOBBLE!!
URL:https://rivertap.com/event/turkey-day-eve-with-live-music-by-al-nolan-7-10pm/
LOCATION:Rivertap\, 701 E 2nd St\, The Dalles\, OR\, 97058\, United States
END:VEVENT
END:VCALENDAR