BEGIN:VCALENDAR
VERSION:2.0
PRODID:-//River Tap Pub - ECPv6.15.18//NONSGML v1.0//EN
CALSCALE:GREGORIAN
METHOD:PUBLISH
X-ORIGINAL-URL:https://rivertap.com
X-WR-CALDESC:Events for River Tap Pub
REFRESH-INTERVAL;VALUE=DURATION:PT1H
X-Robots-Tag:noindex
X-PUBLISHED-TTL:PT1H
BEGIN:VTIMEZONE
TZID:UTC
BEGIN:STANDARD
TZOFFSETFROM:+0000
TZOFFSETTO:+0000
TZNAME:UTC
DTSTART:20170101T000000
END:STANDARD
END:VTIMEZONE
BEGIN:VEVENT
DTSTART;TZID=UTC:20181130T183000
DTEND;TZID=UTC:20181130T213000
DTSTAMP:20260421T185415
CREATED:20181115T234138Z
LAST-MODIFIED:20181115T234138Z
UID:798-1543602600-1543613400@rivertap.com
SUMMARY:LIVE MUSIC BY TRACY KLAS 6:30-9:30PM
DESCRIPTION:THE LOVELY AND TALENTED TRACY KLAS WILL BE HERE! SHOW STARTS AT 6:30PM!
URL:https://rivertap.com/event/live-music-by-tracy-klas-630-930pm/
LOCATION:Rivertap\, 701 E 2nd St\, The Dalles\, OR\, 97058\, United States
END:VEVENT
END:VCALENDAR