BEGIN:VCALENDAR
VERSION:2.0
PRODID:-//River Tap Pub - ECPv6.15.18//NONSGML v1.0//EN
CALSCALE:GREGORIAN
METHOD:PUBLISH
X-ORIGINAL-URL:https://rivertap.com
X-WR-CALDESC:Events for River Tap Pub
REFRESH-INTERVAL;VALUE=DURATION:PT1H
X-Robots-Tag:noindex
X-PUBLISHED-TTL:PT1H
BEGIN:VTIMEZONE
TZID:UTC
BEGIN:STANDARD
TZOFFSETFROM:+0000
TZOFFSETTO:+0000
TZNAME:UTC
DTSTART:20170101T000000
END:STANDARD
END:VTIMEZONE
BEGIN:VEVENT
DTSTART;TZID=UTC:20181215T180000
DTEND;TZID=UTC:20181215T210000
DTSTAMP:20260421T185411
CREATED:20181117T020344Z
LAST-MODIFIED:20181117T020344Z
UID:1016-1544896800-1544907600@rivertap.com
SUMMARY:LIVE MUSIC BY MATT COUGHLIN 6-9PM
DESCRIPTION:THE TALENTED MATT COUGHLIN WILL BE HERE LIVE!
URL:https://rivertap.com/event/live-music-by-matt-coughlin-6-9pm/
LOCATION:Rivertap\, 701 E 2nd St\, The Dalles\, OR\, 97058\, United States
END:VEVENT
END:VCALENDAR