BEGIN:VCALENDAR
VERSION:2.0
PRODID:-//River Tap Pub - ECPv6.15.18//NONSGML v1.0//EN
CALSCALE:GREGORIAN
METHOD:PUBLISH
X-ORIGINAL-URL:https://rivertap.com
X-WR-CALDESC:Events for River Tap Pub
REFRESH-INTERVAL;VALUE=DURATION:PT1H
X-Robots-Tag:noindex
X-PUBLISHED-TTL:PT1H
BEGIN:VTIMEZONE
TZID:UTC
BEGIN:STANDARD
TZOFFSETFROM:+0000
TZOFFSETTO:+0000
TZNAME:UTC
DTSTART:20170101T000000
END:STANDARD
END:VTIMEZONE
BEGIN:VEVENT
DTSTART;TZID=UTC:20181221T170000
DTEND;TZID=UTC:20181221T230000
DTSTAMP:20260421T191009
CREATED:20181117T021515Z
LAST-MODIFIED:20181117T021515Z
UID:1020-1545411600-1545433200@rivertap.com
SUMMARY:SNOWBOARD VIDEO PREMIER PARTY 5PM
DESCRIPTION:IT’S THAT TIME OF YEAR!! WE ARE SUPER EXCITED TO ANNOUNCE THAT WE ARE HAVING OUR ANNUAL SNOWBOARD VIDEO PREMIER PARTY THE FRIDAY BEFORE CHRISTMAS!THE NIGHT WILL BE FULL OF ACTION!! MONSTER HUTCH WILL BE SELLING RAFFLE TICKETS THROUGHOUT THE EVENING FOR CHANCES TO WIN TONS OF AWESOME SNOWBOARD GEAR! THE EVENT KICKS OFF WITH A TAP TAKEOVER BY PELICAN BREWING AT 5PM. WE WILL START THE SNOWBOARD VIDEO PREMIER AT 6:30 AND FALLOW IT UP WITH RAFFLE PRIZES AND MUSIC BY DjE!! COME JOIN US FOR THE BEST PARTY OF THE YEAR!!
URL:https://rivertap.com/event/snowboard-video-premier-party-5pm/
LOCATION:Rivertap\, 701 E 2nd St\, The Dalles\, OR\, 97058\, United States
END:VEVENT
END:VCALENDAR