BEGIN:VCALENDAR
VERSION:2.0
PRODID:-//River Tap Pub - ECPv6.15.18//NONSGML v1.0//EN
CALSCALE:GREGORIAN
METHOD:PUBLISH
X-ORIGINAL-URL:https://rivertap.com
X-WR-CALDESC:Events for River Tap Pub
REFRESH-INTERVAL;VALUE=DURATION:PT1H
X-Robots-Tag:noindex
X-PUBLISHED-TTL:PT1H
BEGIN:VTIMEZONE
TZID:UTC
BEGIN:STANDARD
TZOFFSETFROM:+0000
TZOFFSETTO:+0000
TZNAME:UTC
DTSTART:20180101T000000
END:STANDARD
END:VTIMEZONE
BEGIN:VEVENT
DTSTART;TZID=UTC:20190125T180000
DTEND;TZID=UTC:20190125T210000
DTSTAMP:20260421T170543
CREATED:20181227T175422Z
LAST-MODIFIED:20181227T175422Z
UID:1837-1548439200-1548450000@rivertap.com
SUMMARY:LIVE MUSIC BY JEFF CARRELL & KENNY OLSEN 6-9PM
DESCRIPTION:Join us for a great evening of awesome live music by Jeff & Kenny\, amazing food and a cold brew!! Show starts at 6PM.
URL:https://rivertap.com/event/live-music-by-jeff-carrell-kenny-olsen-6-9pm-2/
LOCATION:Rivertap\, 701 E 2nd St\, The Dalles\, OR\, 97058\, United States
END:VEVENT
END:VCALENDAR